BEGIN:VCALENDAR
VERSION:2.0
PRODID:-//Apple Inc.//iCal 5.0.2//EN
CALSCALE:GREGORIAN
BEGIN:VTIMEZONE
TZID:Australia/
BEGIN:STANDARD
TZOFFSETFROM:+1100
RRULE:FREQ=YEARLY;BYMONTH=4;BYDAY=1SU
DTSTART:20080406T030000
TZNAME:
TZOFFSETTO:+
END:STANDARD
BEGIN:DAYLIGHT
TZOFFSETFROM:+
RRULE:FREQ=YEARLY;BYMONTH=10;BYDAY=1SU
DTSTART:20081005T020000
TZNAME:AEDT
TZOFFSETTO:+1100
END:DAYLIGHT
END:VTIMEZONE
BEGIN:VEVENT
CREATED:20260421T205840
UID:Property20378115Inspection57431302
DTEND;TZID=Australia/:20260425T124500
TRANSP:OPAQUE
SUMMARY:Open For Inspection: Unit 9 / 2 Cowan Road, MOUNT COLAH
DESCRIPTION:Delightful 2 Bed Ground Floor Apartment - Smart and vibrant  ground floor apartment that is well positioned in the market and is conveniently located to train station, transport and shops.

Comprises of 2 good size bedrooms both with built ins and quality floor coverings.

Main bedroom features large ensuite with generous shower recess.

Attractive open plan living with tasteful timber flooring, high ceilings and  LED lighting.

Opening onto private balcony with north facing aspect.

Kitchen with glass splash back, stone bench tops, dishwasher and 4 gas hot plate stove.

This well designed unit features intercom system,  reverse cycle air conditioning and 2 bathrooms

 1 Under cover security car parking with caged storage space.

PLEASE NOTE: Do NOT enter the premises without being accompanied by a Real Estate Agent.

Disclaimer: "We have been furnished with the above information, however, Homefront give no guarantees, undertakings or warnings concerning the accuracy, completeness or up-to-date nature of the information provided.  All interested parties are responsible for their own independent enquiries in order to determine whether or not this information is in fact accurate.  The property is subject to prior lease or withdrawal."

LAST-MODIFIED:20260421T205840
DTSTAMP:20260421T205840
DTSTART;TZID=Australia/:20260425T123000
LOCATION:Unit 9 / 2 Cowan Road MOUNT COLAH NSW 2079
URL:http://www.homefront.com.au/20378115
SEQUENCE:0
END:VEVENT
END:VCALENDAR
