BEGIN:VCALENDAR
VERSION:2.0
PRODID:-//Apple Inc.//iCal 5.0.2//EN
CALSCALE:GREGORIAN
BEGIN:VTIMEZONE
TZID:Australia/
BEGIN:STANDARD
TZOFFSETFROM:+1100
RRULE:FREQ=YEARLY;BYMONTH=4;BYDAY=1SU
DTSTART:20080406T030000
TZNAME:
TZOFFSETTO:+
END:STANDARD
BEGIN:DAYLIGHT
TZOFFSETFROM:+
RRULE:FREQ=YEARLY;BYMONTH=10;BYDAY=1SU
DTSTART:20081005T020000
TZNAME:AEDT
TZOFFSETTO:+1100
END:DAYLIGHT
END:VTIMEZONE
BEGIN:VEVENT
CREATED:20260421T221953
UID:Property21619325Inspection57431382
DTEND;TZID=Australia/:20260422T145000
TRANSP:OPAQUE
SUMMARY:Open For Inspection: 3a Nepean Avenue, NORMANHURST
DESCRIPTION:Delightful Garden Home - Perched on a slightly elevated allotment with a level rear yard, this delightful single-level garden home offers the perfect blend of modern comfort and low-maintenance living.

Beautifully presented, the home features a bright and airy open-plan living area that flows seamlessly, creating a welcoming and relaxed atmosphere.

The generously sized kitchen is well-appointed with ample cupboard space and quality appliances, including a gas cooktop and stainless steel oven-ideal for everyday living and entertaining.

Accommodation includes two spacious bedrooms, both fitted with built-in wardrobes.

The modern bathroom is stylish and functional, complete with a shower recess, vanity, and toilet.

Step outside to a charming rear garden, offering a peaceful space to relax and unwind with minimal upkeep required.

Tucked away in a quiet cul-de-sac, the home is conveniently located within easy walking distance to the train station, Normanhurst Village shops, local primary school, and Loreto College.

Enjoy effortless connectivity with easy access to the M1, M2, and NorthConnex.

LAST-MODIFIED:20260421T221953
DTSTAMP:20260421T221953
DTSTART;TZID=Australia/:20260422T143000
LOCATION:3a Nepean Avenue NORMANHURST NSW 2076
URL:http://www.homefront.com.au/21619325
SEQUENCE:0
END:VEVENT
END:VCALENDAR
