BEGIN:VCALENDAR
VERSION:2.0
PRODID:-//Apple Inc.//iCal 5.0.2//EN
CALSCALE:GREGORIAN
BEGIN:VTIMEZONE
TZID:Australia/
BEGIN:STANDARD
TZOFFSETFROM:+1100
RRULE:FREQ=YEARLY;BYMONTH=4;BYDAY=1SU
DTSTART:20080406T030000
TZNAME:
TZOFFSETTO:+
END:STANDARD
BEGIN:DAYLIGHT
TZOFFSETFROM:+
RRULE:FREQ=YEARLY;BYMONTH=10;BYDAY=1SU
DTSTART:20081005T020000
TZNAME:AEDT
TZOFFSETTO:+1100
END:DAYLIGHT
END:VTIMEZONE
BEGIN:VEVENT
CREATED:20260422T211630
UID:Property21427505Inspection57427600
DTEND;TZID=Australia/:20260426T103000
TRANSP:OPAQUE
SUMMARY:Open For Inspection: 42 Sand street, Kingscliff
DESCRIPTION:Opportunity Knocks by the Coast - If you've been waiting for a project with serious upside in one of the Tweed Coast's most desirable beachside pockets, this is it. Set in a sought after street of Kingscliff, this 4 bedroom home is packed with potential and ready for its next chapter.
Whether you're looking to renovate, invest, or create your dream coastal retreat, the bones are here - it just needs your vision.

FEATURES:
* Four generous bedrooms offering flexibility for families or guest accommodation
* Two bathrooms ready for a modern refresh
* Double garage plus additional off-street parking for boats, caravans or extra vehicles
* In-ground pool, bring it back to life and create a standout outdoor space
* Separate shed ideal for storage, hobbies or a workshop
* Solar electricity and solar hot water, spear pump with stainless steel head
* Functional layout with scope to reimagine and add value
* Positioned on a level block with plenty of room to enhance landscaping and outdoor living. Plenty of space for a veggie garden and your off to a good start with established fruit trees

Set in a location that continues to see strong demand, you're just moments from beaches, cafés and the relaxed coastal lifestyle that makes Kingscliff so popular.

Where to from here:
750m to Kingscliff Beach & dog beach
2km to Kingscliff Cafe's and restaurant's
2.2km to Woolworths Kingscliff
2.2km to St Anthonys 
2.9km to Cudgen Creek
3.6km to Kingscliff High School
3.7km to Tweed Valley Hospital
6.3km to Farm & Co Cudgen
11.5km to Gold Coast International Airport
11.6km to Cabarita Headland
58.2km to Byron Bay 

This is a rare chance to secure a renovator in a premium location - roll up your sleeves and reap the rewards.
LAST-MODIFIED:20260422T211630
DTSTAMP:20260422T211630
DTSTART;TZID=Australia/:20260426T100000
LOCATION:42 Sand street Kingscliff NSW 2487
URL:http://www.rbr.com.au/21427505
SEQUENCE:0
END:VEVENT
END:VCALENDAR
