BEGIN:VCALENDAR
VERSION:2.0
PRODID:-//Apple Inc.//iCal 5.0.2//EN
CALSCALE:GREGORIAN
BEGIN:VTIMEZONE
TZID:Australia/
BEGIN:STANDARD
TZOFFSETFROM:+1100
RRULE:FREQ=YEARLY;BYMONTH=4;BYDAY=1SU
DTSTART:20080406T030000
TZNAME:
TZOFFSETTO:+
END:STANDARD
BEGIN:DAYLIGHT
TZOFFSETFROM:+
RRULE:FREQ=YEARLY;BYMONTH=10;BYDAY=1SU
DTSTART:20081005T020000
TZNAME:AEDT
TZOFFSETTO:+1100
END:DAYLIGHT
END:VTIMEZONE
BEGIN:VEVENT
CREATED:20260424T140656
UID:Property21598056Inspection57434160
DTEND;TZID=Australia/:20260502T120000
TRANSP:OPAQUE
SUMMARY:Open For Inspection: 5/44 Meadow Street, Coffs Harbour
DESCRIPTION:Low-Maintenance Living in Prime CBD Location - Are you searching for a spacious, low-maintenance property just moments from everything? 

This well-appointed townhouse is ideally located within minutes' walk to Coffs Harbour's CBD, playing fields, shops, and public transport.

Set over two levels in a complex of just eight, this sizeable residence presents an outstanding opportunity for first home buyers, downsizers, or savvy investors.

Designed for comfortable living, the home features:

- Three generous bedrooms
- Two bathrooms plus a convenient third toilet
- Two separate living areas, offering flexibility for families or guests
- Air-conditioning and ceiling fans for year-round comfort

Step outside to enjoy a private, fenced courtyard and patio area - perfect for relaxing or entertaining with minimal upkeep.

Complete with a lock-up garage with internal access, this move-in ready home has nothing left to do.

Opportunities like this don't last long - arrange your inspection today!

Rates: $2,646pa
Strata: $3,136pa
Year built: 2007
Current rental income: $600pw
LAST-MODIFIED:20260424T140656
DTSTAMP:20260424T140656
DTSTART;TZID=Australia/:20260502T113000
LOCATION:5/44 Meadow Street Coffs Harbour NSW 2450
URL:http://www.excelpa.com.au/21598056
SEQUENCE:0
END:VEVENT
END:VCALENDAR
