BEGIN:VCALENDAR
VERSION:2.0
PRODID:-//Apple Inc.//iCal 5.0.2//EN
CALSCALE:GREGORIAN
BEGIN:VTIMEZONE
TZID:Australia/
BEGIN:STANDARD
TZOFFSETFROM:+1100
RRULE:FREQ=YEARLY;BYMONTH=4;BYDAY=1SU
DTSTART:20080406T030000
TZNAME:
TZOFFSETTO:+
END:STANDARD
BEGIN:DAYLIGHT
TZOFFSETFROM:+
RRULE:FREQ=YEARLY;BYMONTH=10;BYDAY=1SU
DTSTART:20081005T020000
TZNAME:AEDT
TZOFFSETTO:+1100
END:DAYLIGHT
END:VTIMEZONE
BEGIN:VEVENT
CREATED:20260425T015256
UID:Property20294363Inspection57435147
DTEND;TZID=Australia/:20260429T151000
TRANSP:OPAQUE
SUMMARY:Open For Inspection: 9/34 Boultwood Street, COFFS HARBOUR
DESCRIPTION:Private and Peaceful One-Bedroom Townhouse in Prime Location - Excel Property Agency proudly presents this well-positioned and private one-bedroom townhouse, now available for rent.

Featuring a beautiful balcony overlooking the pool area, this home offers a neat and functional kitchen, a spacious air-conditioned bedroom with built-in robes, a fenced courtyard, and a single carport.

Ideally tucked away from the street, the complex is exceptionally well maintained and surrounded by leafy greenery. Residents can enjoy a lovely pool area with a covered entertaining space complete with a BBQ, as well as the added convenience of on-site toilet and shower facilities.

Inspections are strictly by appointment or advertised open house only, as published on our website.

You can pre apply now as a tenant with Excel Property Agency. Applications are available at: excelpa.com.au.

Whilst all care has been taken to ensure accuracy in the preparation of the particulars herein, no warranty can be given. Interested parties must therefore rely on their own investigations.
LAST-MODIFIED:20260425T015256
DTSTAMP:20260425T015256
DTSTART;TZID=Australia/:20260429T150000
LOCATION:9/34 Boultwood Street COFFS HARBOUR NSW 2450
URL:http://www.excelpa.com.au/20294363
SEQUENCE:0
END:VEVENT
END:VCALENDAR
