BEGIN:VCALENDAR
VERSION:2.0
PRODID:-//Apple Inc.//iCal 5.0.2//EN
CALSCALE:GREGORIAN
BEGIN:VTIMEZONE
TZID:Australia/
BEGIN:STANDARD
TZOFFSETFROM:+1100
RRULE:FREQ=YEARLY;BYMONTH=4;BYDAY=1SU
DTSTART:20080406T030000
TZNAME:
TZOFFSETTO:+
END:STANDARD
BEGIN:DAYLIGHT
TZOFFSETFROM:+
RRULE:FREQ=YEARLY;BYMONTH=10;BYDAY=1SU
DTSTART:20081005T020000
TZNAME:AEDT
TZOFFSETTO:+1100
END:DAYLIGHT
END:VTIMEZONE
BEGIN:VEVENT
CREATED:20260425T031124
UID:Property21615572Inspection57435526
DTEND;TZID=Australia/:20260428T131000
TRANSP:OPAQUE
SUMMARY:Open For Inspection: 15 Basil Street, Moonee Beach
DESCRIPTION:Freshly Built Family Haven in Desirable Moonee Beach Estate - Brand new and beautifully crafted, this contemporary four-bedroom home in the sought-after Moonee Beach Estate delivers the perfect blend of style, comfort, and family-friendly living.

Designed with versatility in mind, the home features a separate media room or children's retreat, ideally positioned alongside bedrooms two, three, and four. The light-filled, tiled open-plan living and dining area flows effortlessly to a covered alfresco-perfect for entertaining or enjoying relaxed weekends.

The modern kitchen is well-equipped with gas cooking, a dishwasher, and a generous walk-in pantry, catering to everyday convenience. The main bathroom offers a bathtub and separate toilet, while the master suite is complete with a walk-in robe and private ensuite, creating a peaceful retreat.

Comfort is assured year-round with air conditioning throughout the living space and all bedrooms.

Step outside to a level, fully fenced backyard-ideal for children and pets to play safely.

Set within a thriving, family-oriented community, this home is just moments from Moonee Beach, local schools, and shopping facilities.

Inspections are available strictly by appointment or during advertised open homes, as listed on our website.

You can submit a pre-application with Excel Property Agency via: www.excelpa.com.au


While every effort has been made to ensure the accuracy of this information, no warranty is given. Interested parties should rely on their own enquiries.

LAST-MODIFIED:20260425T031124
DTSTAMP:20260425T031124
DTSTART;TZID=Australia/:20260428T130000
LOCATION:15 Basil Street Moonee Beach NSW 2450
URL:http://www.excelpa.com.au/21615572
SEQUENCE:0
END:VEVENT
END:VCALENDAR
