BEGIN:VCALENDAR
VERSION:2.0
PRODID:-//Apple Inc.//iCal 5.0.2//EN
CALSCALE:GREGORIAN
BEGIN:VTIMEZONE
TZID:Australia/
BEGIN:STANDARD
TZOFFSETFROM:+1100
RRULE:FREQ=YEARLY;BYMONTH=4;BYDAY=1SU
DTSTART:20080406T030000
TZNAME:
TZOFFSETTO:+
END:STANDARD
BEGIN:DAYLIGHT
TZOFFSETFROM:+
RRULE:FREQ=YEARLY;BYMONTH=10;BYDAY=1SU
DTSTART:20081005T020000
TZNAME:AEDT
TZOFFSETTO:+1100
END:DAYLIGHT
END:VTIMEZONE
BEGIN:VEVENT
CREATED:20260425T015255
UID:Property21613389Inspection57435527
DTEND;TZID=Australia/:20260428T131000
TRANSP:OPAQUE
SUMMARY:Open For Inspection: 17 Basil Street, Moonee Beach
DESCRIPTION:Brand New Family Living in Sought-After Moonee Beach Estate - Brand new and thoughtfully designed, this stylish four-bedroom home in the highly desirable Moonee Beach Estate offers modern comfort and family-friendly living.

Inside, a versatile layout provides a separate media room or children's retreat, conveniently located near bedrooms two, three, and four. The tiled open-plan living and dining area seamlessly extends to a covered alfresco space-perfect for entertaining or relaxed weekend BBQs.

The well-appointed kitchen features gas cooking, a dishwasher, and a spacious walk-in pantry. The main bathroom includes a bathtub and separate toilet, while the master suite offers a walk-in robe and private ensuite for added comfort.

Enjoy year-round climate control with air conditioning throughout the living area and all bedrooms.

Outdoors, the level, fully fenced backyard is ideal for children and pets alike.

Positioned within a modern, family-oriented estate, this home is just minutes from Moonee Beach, local schools, and shopping amenities.

Inspections are available strictly by appointment or during advertised open homes, as listed on our website.

You can submit a pre-application with Excel Property Agency via: www.excelpa.com.au


While every effort has been made to ensure the accuracy of this information, no warranty is given. Interested parties should rely on their own enquiries.
LAST-MODIFIED:20260425T015255
DTSTAMP:20260425T015255
DTSTART;TZID=Australia/:20260428T130000
LOCATION:17 Basil Street Moonee Beach NSW 2450
URL:http://www.excelpa.com.au/21613389
SEQUENCE:0
END:VEVENT
END:VCALENDAR
