BEGIN:VCALENDAR
VERSION:2.0
PRODID:-//Apple Inc.//iCal 5.0.2//EN
CALSCALE:GREGORIAN
BEGIN:VTIMEZONE
TZID:Australia/
BEGIN:STANDARD
TZOFFSETFROM:+1100
RRULE:FREQ=YEARLY;BYMONTH=4;BYDAY=1SU
DTSTART:20080406T030000
TZNAME:
TZOFFSETTO:+
END:STANDARD
BEGIN:DAYLIGHT
TZOFFSETFROM:+
RRULE:FREQ=YEARLY;BYMONTH=10;BYDAY=1SU
DTSTART:20081005T020000
TZNAME:AEDT
TZOFFSETTO:+1100
END:DAYLIGHT
END:VTIMEZONE
BEGIN:VEVENT
CREATED:20260425T032917
UID:Property7576243Inspection57435533
DTEND;TZID=Australia/:20260428T165500
TRANSP:OPAQUE
SUMMARY:Open For Inspection: 1/15 Lyster Street, Coffs Harbour
DESCRIPTION:Two bedroom villa located in the heart of Coffs Harbour!! - This spacious two-bedroom villa features an ensuite, a single lock-up garage with internal access, a huge open-plan living area, and a functional kitchen with a dishwasher. The property also offers a private fenced courtyard and is conveniently located within walking distance to Coffs Central, clubs, shops, and schools.

Inspections are strictly by appointment or advertised open house only, as published on our website.

You can pre apply now as a tenant with Excel Property Agency. Applications are available at: excelpa.com.au
LAST-MODIFIED:20260425T032917
DTSTAMP:20260425T032917
DTSTART;TZID=Australia/:20260428T164500
LOCATION:1/15 Lyster Street Coffs Harbour NSW 2450
URL:http://www.excelpa.com.au/7576243
SEQUENCE:0
END:VEVENT
END:VCALENDAR
