BEGIN:VCALENDAR
VERSION:2.0
PRODID:-//Apple Inc.//iCal 5.0.2//EN
CALSCALE:GREGORIAN
BEGIN:VTIMEZONE
TZID:Australia/
BEGIN:STANDARD
TZOFFSETFROM:+1100
RRULE:FREQ=YEARLY;BYMONTH=4;BYDAY=1SU
DTSTART:20080406T030000
TZNAME:
TZOFFSETTO:+
END:STANDARD
BEGIN:DAYLIGHT
TZOFFSETFROM:+
RRULE:FREQ=YEARLY;BYMONTH=10;BYDAY=1SU
DTSTART:20081005T020000
TZNAME:AEDT
TZOFFSETTO:+1100
END:DAYLIGHT
END:VTIMEZONE
BEGIN:VEVENT
CREATED:20260425T032916
UID:Property20628408Inspection57435538
DTEND;TZID=Australia/:20260428T134500
TRANSP:OPAQUE
SUMMARY:Open For Inspection: 109 Dress Circle, COFFS HARBOUR
DESCRIPTION:Captivating views from this new executive home! - Excel Property Agency exclusively offers this new executive property available for rent.

This new property provides a stylish coastal living experience complete with every modern convenience.

Set over two levels, the air conditioned living space is open plan and has plenty of natural light and breeze with captivating views over Coffs Harbour all the way to Mutton Bird Island and of the glorious coastline to the ocean.

Perfectly located at the northern end of Coffs Harbour. Easy direct access to Park Beach Plaza and just minutes to one of Coffs best beaches - Macauleys! Take advantage of the superb position with direct access under the highway to all areas of Coffs and having access onto the highway in minutes!

All four well appointed bedrooms capture the glorious outlook.  The master bedroom is located on the main living level and features an ensuite and walk in robe. Bedrooms 2, 3 & 4 are all double rooms with built in robes and ceiling fans. 

Enjoy the peace, views and sea breezes from the balconies.

If you are after a coastal lifestyle look no further... this property certainly offers just that!  

Watch the glorious Coffs Coast evolve into a sought after destination with the bypass now on everyone's agenda. 

Inspections are strictly by appointment or advertised open house only, as published on our website.

You can pre apply now as a tenant with Excel Property Agency. Applications are available at: www.excelpa.com.au.

Whilst all care has been taken to ensure accuracy in the preparation of the particulars herein, no warranty can be given. Interested parties must therefore rely on their own investigations.
LAST-MODIFIED:20260425T032916
DTSTAMP:20260425T032916
DTSTART;TZID=Australia/:20260428T133500
LOCATION:109 Dress Circle COFFS HARBOUR NSW 2450
URL:http://www.excelpa.com.au/20628408
SEQUENCE:0
END:VEVENT
END:VCALENDAR
