BEGIN:VCALENDAR
VERSION:2.0
PRODID:-//Apple Inc.//iCal 5.0.2//EN
CALSCALE:GREGORIAN
BEGIN:VTIMEZONE
TZID:Australia/
BEGIN:STANDARD
TZOFFSETFROM:+1100
RRULE:FREQ=YEARLY;BYMONTH=4;BYDAY=1SU
DTSTART:20080406T030000
TZNAME:
TZOFFSETTO:+
END:STANDARD
BEGIN:DAYLIGHT
TZOFFSETFROM:+
RRULE:FREQ=YEARLY;BYMONTH=10;BYDAY=1SU
DTSTART:20081005T020000
TZNAME:AEDT
TZOFFSETTO:+1100
END:DAYLIGHT
END:VTIMEZONE
BEGIN:VEVENT
CREATED:20260425T015255
UID:Property15502135Inspection57435839
DTEND;TZID=Australia/:20260429T134000
TRANSP:OPAQUE
SUMMARY:Open For Inspection: 9 Seashore Place, SANDY BEACH
DESCRIPTION:Large Four Bedroom Family Home with a well designed layout! - Excel Property Agency exclusively offers this 4 bedroom family home for rent.

This home offers a flexible floor plan featuring a separate lounge/media room and a small rumpus area, gas cooking and walk in pantry in the kitchen, a tiled generous living zone leading out to the perfectly positioned undercover alfresco entertaining area with room for outdoor dining and BBQ.

Quality fittings and fixtures throughout including air conditioned living area and master bedroom, internal laundry and double garage with internal access and an easy care yard.

It is a quiet location surrounded by bush land and park areas, its also only a short drive to Sandy Beach and the local cages. 

Inspections are strictly by appointment or advertised open house only, as published on our website.

You can pre apply now as a tenant with Excel Property Agency. Applications are available at: www.excelrealestate.com.au.

Whilst all care has been taken to ensure accuracy in the preparation of the particulars herein, no warranty can be given.  Interested parties must therefore rely on their own investigations.

LAST-MODIFIED:20260425T015255
DTSTAMP:20260425T015255
DTSTART;TZID=Australia/:20260429T133000
LOCATION:9 Seashore Place SANDY BEACH NSW 2456
URL:http://www.excelpa.com.au/15502135
SEQUENCE:0
END:VEVENT
END:VCALENDAR
