BEGIN:VCALENDAR
VERSION:2.0
PRODID:-//Apple Inc.//iCal 5.0.2//EN
CALSCALE:GREGORIAN
BEGIN:VTIMEZONE
TZID:Australia/
BEGIN:STANDARD
TZOFFSETFROM:+1100
RRULE:FREQ=YEARLY;BYMONTH=4;BYDAY=1SU
DTSTART:20080406T030000
TZNAME:
TZOFFSETTO:+
END:STANDARD
BEGIN:DAYLIGHT
TZOFFSETFROM:+
RRULE:FREQ=YEARLY;BYMONTH=10;BYDAY=1SU
DTSTART:20081005T020000
TZNAME:AEDT
TZOFFSETTO:+1100
END:DAYLIGHT
END:VTIMEZONE
BEGIN:VEVENT
CREATED:20260423T194709
UID:Property21620244Inspection57434386
DTEND;TZID=Australia/:20260425T110000
TRANSP:OPAQUE
SUMMARY:Open For Inspection: 3 Datlawa St, LYONS
DESCRIPTION:Move-in-Ready Family Home - Popular Lyons Location!

Nothing to do here - the home has had a full makeover, including a fresh coat of paint.

It has a bright and fresh appeal - theres oodles of natural light from the extensive windows. 

And there is planty of space inside and out, perfect for a growing and active family.

The neighbourhood is away from main roads and traffic flow.

Consider the benefits of this home -
* Solid masonry block construction
* Built to Defence standards
* Spacious design, just perfect for a growing family
* 4 bedrooms
* 2 bathrooms (ensuite to the main bedroom)
* Open plan style with lots of light inside
* Light coloured floor tiles throughout
* Near new split-system a/c units throughout
* Generous kitchen with plenty of cupboard space
* Kitchen looks across the dining/TV area
* Underbench oven, rangehood and benchtop hotplates
* Separate, and large lounge room
* Main bedroom with a wall of built-in robes
* Ensuite bathroom
* Main bathroom with shower and a bath
* Separate toilet 
* Good-sized internal laundry
* Verandah off the dining & living areas
* A proper back yard with room for pets & play
* Double lock-up garage for cars and storage
* Solar hot water system
* Land area 629sqm
* Versatile corner site - possible second driveway?
* No easements on the title

Walk to neighbourhood parks and the new Muirhead Tavern.

The two Darwin Hospitals are within walking distance of the home.

 Darwin City Council rates approx. $1 950p.a + garbage at $365p.a
LAST-MODIFIED:20260423T194709
DTSTAMP:20260423T194709
DTSTART;TZID=Australia/:20260425T103000
LOCATION:3 Datlawa St LYONS NT 810
URL:http://www.propertyshopdarwin.com/21620244
SEQUENCE:0
END:VEVENT
END:VCALENDAR
