BEGIN:VCALENDAR
VERSION:2.0
PRODID:-//Apple Inc.//iCal 5.0.2//EN
CALSCALE:GREGORIAN
BEGIN:VTIMEZONE
TZID:Australia/
BEGIN:STANDARD
TZOFFSETFROM:+1100
RRULE:FREQ=YEARLY;BYMONTH=4;BYDAY=1SU
DTSTART:20080406T030000
TZNAME:
TZOFFSETTO:+
END:STANDARD
BEGIN:DAYLIGHT
TZOFFSETFROM:+
RRULE:FREQ=YEARLY;BYMONTH=10;BYDAY=1SU
DTSTART:20081005T020000
TZNAME:AEDT
TZOFFSETTO:+1100
END:DAYLIGHT
END:VTIMEZONE
BEGIN:VEVENT
CREATED:20260421T211047
UID:Property19187675Inspection57430541
DTEND;TZID=Australia/:20260421T141500
TRANSP:OPAQUE
SUMMARY:Open For Inspection: 3 Amanda Close, BOAMBEE
DESCRIPTION:Tranquil Rural Setting - Located in the Beautiful Boambee Valley 
Tranquil setting overlooking your own pond
3 bedrooms, 1 bathroom
Upstairs master mezzanine bedroom
2 bedrooms downstairs with ceiling fans
Open plan living & dining
Reverse cycle air conditioning
Lovely wrap around verandahs 
Raked timber ceilings
Large water tank
Single carport
New 4kw solar system 

Ayrshire Park Grounds in close proximity 
Short drive to Boambee Primary School

IMPORTANT NOTE: Please be advised applicants need to physically view the property for their application to be valid. For inspection times and to apply online - please do so via our digital platform, Snug - https://app.snug.com/apply/unrealestatecoffscoast
LAST-MODIFIED:20260421T211047
DTSTAMP:20260421T211047
DTSTART;TZID=Australia/:20260421T140000
LOCATION:3 Amanda Close BOAMBEE NSW 2450
URL:http://www.unre.com.au/19187675
SEQUENCE:0
END:VEVENT
END:VCALENDAR
