BEGIN:VCALENDAR
VERSION:2.0
PRODID:-//Apple Inc.//iCal 5.0.2//EN
CALSCALE:GREGORIAN
BEGIN:VTIMEZONE
TZID:Australia/
BEGIN:STANDARD
TZOFFSETFROM:+1100
RRULE:FREQ=YEARLY;BYMONTH=4;BYDAY=1SU
DTSTART:20080406T030000
TZNAME:
TZOFFSETTO:+
END:STANDARD
BEGIN:DAYLIGHT
TZOFFSETFROM:+
RRULE:FREQ=YEARLY;BYMONTH=10;BYDAY=1SU
DTSTART:20081005T020000
TZNAME:AEDT
TZOFFSETTO:+1100
END:DAYLIGHT
END:VTIMEZONE
BEGIN:VEVENT
CREATED:20260426T093848
UID:Property21570074Inspection57432310
DTEND;TZID=Australia/:20260426T103000
TRANSP:OPAQUE
SUMMARY:Open For Inspection: 1 Minaret Way, MOUNT LOUISA
DESCRIPTION:OVERSIZED FAMILY LIVING CLOSE TO EVERYTHING THAT MATTERS - 5 Bedrooms / 2 Bathrooms / 2 Cars - Two Living Areas 

This genuine five-bedroom family home is conveniently positioned for carefree family living, just minutes from the popular Crestbrook Plaza shopping complex with IGA, chemist and convenient takeaway options. Domain Central, one of Queensland's largest major outlet and large goods shopping centres, is also only minutes away and features major retailers including Harvey Norman, Bunnings, JB Hi-Fi, Freedom, Lincraft and TK Maxx. Quality schools and quick access to the Northern Ring Road further add to the appeal of this sought-after location.

The home offers five air-conditioned bedrooms with built-ins, including a master with ensuite and oversized walk-in robe. The main bathroom features a shower/bath combination and separate toilet. Two split-system air-conditioned living and dining areas provide plenty of space for the whole family.

The functional kitchen includes a walk-in pantry, dishwasher and ample bench and cupboard space, overlooking the covered outdoor entertaining area, perfect for relaxed living. 
Additional features include a double remote garage with internal access, double gate access to the rear yard, plus ceiling fans and security screens throughout.

* Five air-conditioned bedrooms with built-ins
* Master bedroom with ensuite and oversized walk-in robe
* Main bathroom with shower/bath combination and separate toilet
* Two split-system air-conditioned living and dining areas offering plenty of space for the family
* Functional kitchen with walk-in pantry, dishwasher and ample bench and cupboard space overlooking the outdoor area
* Fully covered outdoor entertaining area ideal for relaxed living
* Double remote garage with internal access
* Double gate access to the rear yard
* Ceiling fans and security screens throughout

CORNER ALLOTMENT - SOUGHT AFTER LOCATION 

Disclaimer: While all care has been taken to ensure the information provided herein is correct, we do not take responsibility for any inaccuracies and we accept no liability for any errors or exclusions (including but not limited to a property's land size, floor plans and building age). Accordingly all interested parties should make their own enquiries and obtain their own legal advice.
LAST-MODIFIED:20260426T093848
DTSTAMP:20260426T093848
DTSTART;TZID=Australia/:20260426T093000
LOCATION:1 Minaret Way MOUNT LOUISA QLD 4814
URL:http://www.remaxexcellenceqld.com.au/21570074
SEQUENCE:0
END:VEVENT
END:VCALENDAR
