BEGIN:VCALENDAR
VERSION:2.0
PRODID:-//Apple Inc.//iCal 5.0.2//EN
CALSCALE:GREGORIAN
BEGIN:VTIMEZONE
TZID:Australia/
BEGIN:STANDARD
TZOFFSETFROM:+1100
RRULE:FREQ=YEARLY;BYMONTH=4;BYDAY=1SU
DTSTART:20080406T030000
TZNAME:
TZOFFSETTO:+
END:STANDARD
BEGIN:DAYLIGHT
TZOFFSETFROM:+
RRULE:FREQ=YEARLY;BYMONTH=10;BYDAY=1SU
DTSTART:20081005T020000
TZNAME:AEDT
TZOFFSETTO:+1100
END:DAYLIGHT
END:VTIMEZONE
BEGIN:VEVENT
CREATED:20260421T194944
UID:Property755412Inspection57431037
DTEND;TZID=Australia/:20260423T171500
TRANSP:OPAQUE
SUMMARY:Open For Inspection: 7/1-3 Oxford Street, EPPING
DESCRIPTION:Two-Bedroom Unit Moments from Epping Station - This well-presented two-bedroom unit is ideally located just a stone's throw from Epping Station and the bus terminal.

Featuring an open-plan living and dining area with timber flooring and split-system air conditioning, the space flows onto a covered balcony. The modern kitchen offers stainless steel appliances, a gas cooktop, and a dishwasher.

Spacious bathroom with a bathtub, as well as an internal laundry with a dryer.

Situated within a secure building with intercom access, the unit also comes with a secure car space.


LAST-MODIFIED:20260421T194944
DTSTAMP:20260421T194944
DTSTART;TZID=Australia/:20260423T170000
LOCATION:7/1-3 Oxford Street EPPING NSW 2121
URL:http://www.caleproperty.com.au/755412
SEQUENCE:0
END:VEVENT
END:VCALENDAR
