BEGIN:VCALENDAR
VERSION:2.0
PRODID:-//Apple Inc.//iCal 5.0.2//EN
CALSCALE:GREGORIAN
BEGIN:VTIMEZONE
TZID:Australia/
BEGIN:STANDARD
TZOFFSETFROM:+1100
RRULE:FREQ=YEARLY;BYMONTH=4;BYDAY=1SU
DTSTART:20080406T030000
TZNAME:
TZOFFSETTO:+
END:STANDARD
BEGIN:DAYLIGHT
TZOFFSETFROM:+
RRULE:FREQ=YEARLY;BYMONTH=10;BYDAY=1SU
DTSTART:20081005T020000
TZNAME:AEDT
TZOFFSETTO:+1100
END:DAYLIGHT
END:VTIMEZONE
BEGIN:VEVENT
CREATED:20260423T042341
UID:Property17844295Inspection57432663
DTEND;TZID=Australia/:20260423T164500
TRANSP:OPAQUE
SUMMARY:Open For Inspection: 8/249 Bayview Street, RUNAWAY BAY
DESCRIPTION:Marina Apartments - Located in the heart of Runaway Bay this apartment offers residence blissful views over the marina & waterways from the 2nd level. 

Features;

Modern 2pac kitchen with stone bench tops & dishwasher, open plan lounge/dining open up onto balcony.

Airconditioned living spaces 

Ensuited master bedroom with walk-in wardrobe, 2nd bedroom with separate main bathroom. 

Balcony access from both master & 2nd bedrooms

Separate laundry

Single lock up automatic garage plus allocated car space #23 and plenty of visitors carparking.  

Pool, outdoor spa and entertaining area in communal area,  only a short walk to popular cafes & restaurants


TO INSPECT THE PROPERTY click on the "Book an Inspection Time/Contact the Agent" button above. You must be registered for advertised inspection times to be informed of any updates, changes and/or cancellations.




LAST-MODIFIED:20260423T042341
DTSTAMP:20260423T042341
DTSTART;TZID=Australia/:20260423T163000
LOCATION:8/249 Bayview Street RUNAWAY BAY QLD 4216
URL:http://www.homerea.com.au/17844295
SEQUENCE:0
END:VEVENT
END:VCALENDAR
