BEGIN:VCALENDAR
VERSION:2.0
PRODID:-//Apple Inc.//iCal 5.0.2//EN
CALSCALE:GREGORIAN
BEGIN:VTIMEZONE
TZID:Australia/
BEGIN:STANDARD
TZOFFSETFROM:+1100
RRULE:FREQ=YEARLY;BYMONTH=4;BYDAY=1SU
DTSTART:20080406T030000
TZNAME:
TZOFFSETTO:+
END:STANDARD
BEGIN:DAYLIGHT
TZOFFSETFROM:+
RRULE:FREQ=YEARLY;BYMONTH=10;BYDAY=1SU
DTSTART:20081005T020000
TZNAME:AEDT
TZOFFSETTO:+1100
END:DAYLIGHT
END:VTIMEZONE
BEGIN:VEVENT
CREATED:20260422T184302
UID:Property21618493Inspection57423994
DTEND;TZID=Australia/:19700101T000000
TRANSP:OPAQUE
SUMMARY:Open For Inspection: 3/163 Main Street, ELLIMINYT
DESCRIPTION:EASY LIVING IN ELLIMINYT! - Positioned within a well-kept complex, this two-bedroom unit offers a practical layout and an easy-care lifestyle just minutes from central Colac, and within close reach of Elliminyt Primary School and the local mini mart.
Natural light fills the main living space, where the kitchen and dining area connect comfortably, creating a functional hub for everyday living. Both bedrooms include built-in robes and are well-proportioned, serviced by a central bathroom.
Outside, a private courtyard provides the perfect place for your morning coffee, offering a quiet, low-maintenance outdoor space. A single car space adds further convenience.
Well-suited to downsizers, investors or those entering the market, this is a straightforward, low-maintenance opportunity in a reliable location.
Independent Rental appraisal $340 - $350 per week
LAST-MODIFIED:20260422T184302
DTSTAMP:20260422T184302
DTSTART;TZID=Australia/:19700101T100000
LOCATION:3/163 Main Street ELLIMINYT VIC 3250
URL:http://www.charlesstewart.com.au/21618493
SEQUENCE:0
END:VEVENT
END:VCALENDAR
