BEGIN:VCALENDAR
VERSION:2.0
PRODID:-//Apple Inc.//iCal 5.0.2//EN
CALSCALE:GREGORIAN
BEGIN:VTIMEZONE
TZID:Australia/
BEGIN:STANDARD
TZOFFSETFROM:+1100
RRULE:FREQ=YEARLY;BYMONTH=4;BYDAY=1SU
DTSTART:20080406T030000
TZNAME:
TZOFFSETTO:+
END:STANDARD
BEGIN:DAYLIGHT
TZOFFSETFROM:+
RRULE:FREQ=YEARLY;BYMONTH=10;BYDAY=1SU
DTSTART:20081005T020000
TZNAME:AEDT
TZOFFSETTO:+1100
END:DAYLIGHT
END:VTIMEZONE
BEGIN:VEVENT
CREATED:20260421T211047
UID:Property21619740Inspection57431434
DTEND;TZID=Australia/:20260424T172000
TRANSP:OPAQUE
SUMMARY:Open For Inspection: 15 Church Street, Colac
DESCRIPTION:Immediate Appeal in a Tightly Held Location - Positioned in a highly convenient location, 15 Church Street offers an outstanding opportunity for those looking to enter the market or secure a home in a prime residential setting.

Set on approximately 669m&sup2;, this four-bedroom, two-bathroom brick veneer home is in immaculate, original condition, providing the perfect canvas to update and make your own. The home is complemented by a double garage and an established garden, adding to its overall appeal.

Enjoy the lifestyle benefits of being within easy walking distance of Lake Colac, the Colac Botanic Gardens and Bird Sanctuary, along with a short 10-minute walk to the town centre. Local primary schools, kindergarten and IGA are also conveniently close by.

A solid home in a sought-after location, offering comfortable living now with genuine potential to enhance and create something special.

DISCLAIMER: While utmost care has been taken to verify the accuracy of the information provided above, it should not be construed as a representation by the vendor or the agent/agency. All stated dimensions are approximate only. Particulars given are for general information only and do not constitute any representation on the part of the vendor or agent.
LAST-MODIFIED:20260421T211047
DTSTAMP:20260421T211047
DTSTART;TZID=Australia/:20260424T170000
LOCATION:15 Church Street Colac VIC 3250
URL:http://www.charlesstewart.com.au/21619740
SEQUENCE:0
END:VEVENT
END:VCALENDAR
